BEGIN:VCALENDAR
VERSION:2.0
PRODID:-//wp-events-plugin.com//7.2.3.1//EN
BEGIN:VEVENT
UID:19@tircas.nl
DTSTART:20181206T130000Z
DTEND:20181206T200000Z
DTSTAMP:20180829T202353Z
URL:https://tircas.nl/events/event-6-december-tircas-lustrum-15-jaar/
SUMMARY:Event 6 December: tiRCas lustrum 15 jaar
DESCRIPTION:Dit jaar bestaat tiRCas 15 jaar en daarom organiseert onze l
 ustrum commissie een speciaal event voor onze leden.  We hebben een boeie
 nde spreker op het oog in combinatie met een interactieve workshop. We zul
 len de middag voorzetten met een hapje en een drankje - kortom een event d
 at je niet wilt missen. Zet 6 december hoog in je agenda. Zodra het progra
 mma bekend is kan je je via Banster inschrijven.
CATEGORIES:Lecture
LOCATION:Tilburg University\, warandelaan 2\, Tilburg\, Netherlands
GEO:51.5626655;5.042383699999959
X-APPLE-STRUCTURED-LOCATION;VALUE=URI;X-ADDRESS=warandelaan 2\, Tilburg\, N
 etherlands;X-APPLE-RADIUS=100;X-TITLE=Tilburg University:geo:51.5626655,5.
 042383699999959
END:VEVENT
END:VCALENDAR